BEGIN:VCALENDAR
VERSION:2.0
PRODID:-//ChamberMaster//Event Calendar 2.0//EN
METHOD:PUBLISH
X-PUBLISHED-TTL:P3D
REFRESH-INTERVAL:P3D
CALSCALE:GREGORIAN
BEGIN:VEVENT
DTSTART:20230426T180000Z
DTEND:20230426T190000Z
X-MICROSOFT-CDO-ALLDAYEVENT:FALSE
SUMMARY:NGLCC Succession Planning Workshop
DESCRIPTION:Sponsored by Absolut Vodka and Wells Fargo! How to plan for the successful transfer and preservation of your business and protect your legacy!
X-ALT-DESC;FMTTYPE=text/html:Sponsored by Absolut Vodka and Wells Fargo! How to plan for the successful transfer and preservation of your business and protect your legacy!
LOCATION:https://business.lgbtchamber.com/events/details/nglcc-succession-planning-workshop-891
UID:e.3618.79
SEQUENCE:3
DTSTAMP:20260424T140428Z
URL:http://stlouislgbtmo.chambermaster.com/events/details/nglcc-succession-planning-workshop-79
END:VEVENT

END:VCALENDAR
