BEGIN:VCALENDAR
VERSION:2.0
PRODID:-//ChamberMaster//Event Calendar 2.0//EN
METHOD:PUBLISH
X-PUBLISHED-TTL:P3D
REFRESH-INTERVAL:P3D
CALSCALE:GREGORIAN
BEGIN:VEVENT
DTSTART:20230615T220000Z
DTEND:20230615T230000Z
X-MICROSOFT-CDO-ALLDAYEVENT:FALSE
SUMMARY:Queer Book Club
DESCRIPTION:In this monthly book club\, we'll read YA books featuring queer characters as they navigate family\, friends\, relationships\, school\, and being a teenager. Join us every month to hang out\, talk about books\, and share life together. Allies welcome! For Pride month we'll be discussing: Queer as All Get Out: 10 People Who've Inspired Me by Shelby Criswell. Queer\, as All Get Out\, is available for checkout through the library's catalog\, but reading the book is NOT a requirement to attend. Grades 7-12. https://slpl.bibliocommons.com/events/63599a7b6ee0ff3600ce003e
X-ALT-DESC;FMTTYPE=text/html:In this monthly book club\, we&rsquo\;ll read YA books featuring queer characters as they navigate family\, friends\, relationships\, school\, and being a teenager. Join us every month to hang out\, talk about books\, and share life together. Allies welcome! For Pride month we&rsquo\;ll be discussing: Queer as All Get Out: 10 People Who&#39\;ve Inspired Me by Shelby Criswell. Queer\, as All Get Out\, is available for checkout through the library&rsquo\;s catalog\, but reading the book is NOT a requirement to attend. Grades 7-12. https://slpl.bibliocommons.com/events/63599a7b6ee0ff3600ce003e
LOCATION:Central Library\, 1301 Olive Street
UID:e.3618.95
SEQUENCE:3
DTSTAMP:20260421T184151Z
URL:http://stlouislgbtmo.chambermaster.com/events/details/queer-book-club-95
END:VEVENT

END:VCALENDAR
