BEGIN:VCALENDAR
VERSION:2.0
PRODID:-//ChamberMaster//Event Calendar 2.0//EN
METHOD:PUBLISH
X-PUBLISHED-TTL:P3D
REFRESH-INTERVAL:P3D
CALSCALE:GREGORIAN
BEGIN:VEVENT
DTSTART:20230607T230000Z
DTEND:20230608T003000Z
X-MICROSOFT-CDO-ALLDAYEVENT:FALSE
SUMMARY:Queer Poetry Open Mic
DESCRIPTION:Have you ever read a poem that immediately cut to the core of your identity? Have you ever written your own poetry to try and reach out? Bring a poem that touched you whether it is someone else's or your own to share. All members of LGBTQIA+ community and anyone who is still trying to find their own identity are welcome. Participants can bring samples of their own writing\, or recite something by an established author. https://slpl.bibliocommons.com/events/642c76176a6a2a36000aac52
X-ALT-DESC;FMTTYPE=text/html:Have you ever read a poem that immediately cut to the core of your identity? Have you ever written your own poetry to try and reach out? Bring a poem that touched you&mdash\;whether it is someone else&rsquo\;s or your own&mdash\;to share. All members of LGBTQIA+ community and anyone who is still trying to find their own identity are welcome. Participants can bring samples of their own writing\, or recite something by an established author. https://slpl.bibliocommons.com/events/642c76176a6a2a36000aac52
LOCATION:Central Library\, 1301 Olive Street
UID:e.3618.91
SEQUENCE:3
DTSTAMP:20260422T094202Z
URL:http://stlouislgbtmo.chambermaster.com/events/details/queer-poetry-open-mic-91
END:VEVENT

END:VCALENDAR
